BEGIN:VCALENDAR
VERSION:2.0
PRODID:-//ChamberMaster//Event Calendar 2.0//EN
METHOD:PUBLISH
X-PUBLISHED-TTL:P3D
REFRESH-INTERVAL:P3D
CALSCALE:GREGORIAN
BEGIN:VEVENT
DTSTART:20240424T213000Z
DTEND:20240425T010000Z
X-MICROSOFT-CDO-ALLDAYEVENT:FALSE
SUMMARY:2024 Annual Awards Night
DESCRIPTION:Chamber of Commerce\n\nAnnual Dinner & Diamond Awards\n\n \n\nYou don't want to miss our biggest night of the year!  We are expecting a full house again so you will want to make sure you get your reservations in as soon as you receive your invitation! Invitations will be mailed out to each Chamber business member in late March.\n\nWinners of the Diamond Awards (including Emerging Leader\, Small Business\, Mid-Sized Business and Large Business\, as well as Small and Large Non-Profit of the Year Awards)\, and the Lew and Ellie Davies Award will be announced at this annual event. The Raymond P. Shafer Award recipient will be announced by early April.\n\n\n\nThe Raymond P. Shafer Award\, in its 33rd year\, will be awarded to a member of the community who has made a positive impact on the quality of life in western Crawford County through his/her volunteer service to our community.\n\n\n\nLikewise\, the Lew and Ellie Davies Award for Outstanding Community Service will be presented to an Allegheny College student who has made a significant contribution to the Meadville area. The Diamond Awards will be presented to individuals\, businesses and non-profits that have demonstrated excellent leadership and performance in their field and in the community. \n\n\n\nNominations can be made through March 22nd for the Diamond Awards and the Shafer Award. Self-nominations are welcome.\n\n\n\nClick this link to nominate someone for the Raymond P. Shafer Award. (Nominations open until March 22\, 2024)\n\n\n\nClick this link to make a nomination for one or more of the Diamond Awards. (Nominations open until March 22\, 2024)\n\n\n\nClick this link to see a list of past Shafer and Diamond Awards recipients .\n\n\n\nDownload and print DIAMOND AWARD nomination forms here\n\n\n\nDownload and print SHAFER AWARD nomination forms here  \n\n\n\nRAYMOND P. SHAFER AWARD FOR DISTINGUISHED COMMUNITY SERVICE\n\nRob Smith\n\n\n\nLEW AND ELLIE DAVIES AWARD FOR OUTSTANDING COMMUNITY SERVICE\n\nWinner to be announced at awards dinner.\n\n\n\nFINALISTS FOR THE DIAMOND AWARDS\n\nEmerging Leader\, Male\n\nGabe Panchura\, Hagan Business Machines of Meadville\n\nAdam Prenatt\, UniFirst Corp.\n\nCorey Young\, Hospice of Crawford County and French Creek Framing & Fine Arts\n\n\n\nEmerging Leader\, Female\n\nVirginia Dann\, Acutec Precision Aerospace\n\nJayne Martin\, Bayshore Homes\n\nAmber Pfeifer\, Anchor Performance Clinic\n\n\n\nSmall Business\n\nBlue Canopy Marketing\n\nConfections of a Cake Lover\n\nThe Woolen Mill\n\n\n\nMid-Sized Business\n\nInspire Salon & Spa and Inspire Med Spa\n\nRiverside Brewing Company\n\nThe Meadville Tribune\n\n\n\nNew Business\n\nAnchor Performance Clinic\n\nBlack Bear Hemp Dispensary\n\nChalets by the Lake\n\nYou Matter\, LLC\n\n\n\nSmall Non-Profit\n\nHunters Sharing the Harvest\n\nMeadville Community Theatre\n\nThe Learning Center K-8 School\n\n\n\nLarge Non-Profit\n\nFamily & Community Christian Association\n\nMeadville Family YMCA\n\nThe Arc of Crawford County\n\n\n\nWould you like priority seating and advertising for your business as a corporate sponsor of the event?  Download the sponsor opportunities here \n\n\n\nInvitations to the Annual Dinner will be mailed out to each Chamber member business in late March.\n\n\n\nCall the Chamber of Commerce office with any questions.
X-ALT-DESC;FMTTYPE=text/html:<div><big><strong>Chamber of Commerce<br />\nAnnual Dinner &amp\; Diamond Awards</strong></big></div>\n\n<div>&nbsp\;</div>\n\n<p><span style="font-size:14px\;"><span style="font-family:tahoma\;">You don&#39\;t want to miss our biggest night of the year!&nbsp\; We are expecting a full house again so you will want to make sure you get your reservations in as soon as you receive your invitation! Invitations will be mailed out to each Chamber business member in late March.</span></span></p>\n\n<p><span style="font-size:14px\;"><span style="font-family:tahoma\;">Winners of the Diamond Awards (including Emerging Leader\, Small Business\, Mid-Sized Business and Large Business\, as well as Small and Large Non-Profit of the Year Awards)\,&nbsp\;and the Lew and Ellie&nbsp\;Davies Award will be announced at this annual event. The Raymond P. Shafer Award recipient will be announced by early April.<br />\n<br />\nThe Raymond P. Shafer Award\, in its 33rd year\, will be awarded to a member of the community who has made a positive impact on the quality of life in western Crawford County through his/her <u>volunteer service</u> to our community.</span><br />\n<br />\n<span style="font-family:arial\,sans-serif\;">Likewise\, the Lew and Ellie&nbsp\;Davies Award for Outstanding Community Service will be presented to an&nbsp\;Allegheny College student who has made a significant contribution to the Meadville area. The Diamond Awards will be presented to individuals\, businesses and non-profits that have demonstrated excellent leadership and performance in their field and in the community.&nbsp\;</span></span><br />\n<br />\n<span style="font-size:14px\;"><span style="font-family:tahoma\;">Nominations can be made through March 22nd for the Diamond Awards and the Shafer Award.&nbsp\;Self-nominations are welcome.<br />\n<br />\n<a href="https://meadvillechamberofcommerce.wufoo.com/forms/q270hsd0c0zpo1/"><span style="color: rgb(7\, 130\, 193)\;">Click this link to nominate someone for the Raymond P. Shafer Award</span></a><span style="color: rgb(51\, 51\, 51)\;">. </span>(Nominations open until March 22\, 2024)<br />\n<br />\n<a href="https://meadvillechamberofcommerce.wufoo.com/forms/m1347bg1133m9y3/"><span style="color: rgb(7\, 130\, 193)\;">Click this link to make&nbsp\;a nomination for one or more of the&nbsp\;Diamond&nbsp\;Awards</span></a><span style="color: rgb(51\, 51\, 51)\;">. (Nominations open until March 22\, 2024)</span><br />\n<br />\n<a href="https://chambermaster.blob.core.windows.net/userfiles/UserFiles/chambers/712/File/Annual Dinner/2024/ShaferAwardDiamondAwardsWinners.pdf">Click this link to see a list of past Shafer and Diamond Awards recipients</a> .</span></span><br />\n<br />\n<span style="font-size: 12px\;"><span style="font-family: arial\;"><span style="font-size:14px\;"><span style="font-family:tahoma\;"><a href="https://chambermaster.blob.core.windows.net/userfiles/UserFiles/chambers/712/File/Annual Dinner/2024/DiamondAwardsNominationForms_2024.pdf">Download and print DIAMOND AWARD nomination forms here</a><br />\n<br />\n<a href="https://chambermaster.blob.core.windows.net/userfiles/UserFiles/chambers/712/File/Annual Dinner/2024/ShaferForm_2024.pdf">Download and print SHAFER AWARD nomination forms here</a> </span></span> </span></span></p>\n\n<div><br />\n<strong style="font-size: 24px\;"><span style="font-size:16px\;"><u>RAYMOND P. SHAFER AWARD FOR DISTINGUISHED COMMUNITY SERVICE</u></span></strong><br />\n<span style="font-size:16px\;">Rob Smith</span><br />\n<br />\n<strong style="font-size: 24px\;"><span style="font-size:16px\;"><u>LEW AND ELLIE DAVIES AWARD FOR OUTSTANDING COMMUNITY SERVICE</u></span></strong><br />\n<strong style="font-size: 24px\;"><span style="font-size: 14px\;">Winner to be announced at awards dinner.</span></strong><br />\n<br />\n<strong style="font-size: 24px\;"><span style="font-size: 22px\;">FINALISTS FOR THE DIAMOND AWARDS</span></strong><br />\n<strong><u><em>Emerging Leader\, Male</em></u></strong><br />\nGabe Panchura\, Hagan Business Machines of Meadville<br />\nAdam Prenatt\, UniFirst Corp.<br />\nCorey Young\, Hospice of Crawford County and French Creek Framing &amp\; Fine Arts<br />\n<br />\n<u><em><strong>Emerging Leader\, Female</strong></em></u><br />\nVirginia Dann\, Acutec Precision Aerospace<br />\nJayne Martin\, Bayshore Homes<br />\nAmber Pfeifer\, Anchor Performance Clinic<br />\n<br />\n<u><em><strong>Small Business</strong></em></u><br />\nBlue Canopy Marketing<br />\nConfections of a Cake Lover<br />\nThe Woolen Mill<br />\n<br />\n<u><em><strong>Mid-Sized Business</strong></em></u><br />\nInspire Salon &amp\; Spa and Inspire Med Spa<br />\nRiverside Brewing Company<br />\nThe Meadville Tribune<br />\n<br />\n<u><strong><em>New Business</em></strong></u><br />\nAnchor Performance Clinic<br />\nBlack Bear Hemp Dispensary<br />\nChalets by the Lake<br />\nYou Matter\, LLC<br />\n<br />\n<u><em><strong>Small Non-Profit</strong></em></u><br />\nHunters Sharing the Harvest<br />\nMeadville Community Theatre<br />\nThe Learning Center K-8 School<br />\n<br />\n<em><u><strong>Large Non-Profit</strong></u></em></div>\n\n<div>Family &amp\; Community Christian Association<br />\nMeadville Family YMCA<br />\nThe Arc&nbsp\;of Crawford County<br />\n<br />\nWould you like priority seating and advertising for your business as a corporate sponsor of the event?&nbsp\; <u><a href="https://chambermaster.blob.core.windows.net/userfiles/UserFiles/chambers/712/File/Annual Dinner/2024/AnnualAwardsNightsponsorships_2024.pdf">Download the sponsor opportunities here</a> </u><br />\n<br />\nInvitations to the Annual Dinner will be mailed out to each Chamber member business in late March.<br />\n<br />\nCall the Chamber of Commerce office with any questions.</div>\n
LOCATION:Pampered Palate Catering & Conference Center 606 South Street (Rt. 198) Saegertown
UID:e.712.7964
SEQUENCE:3
DTSTAMP:20260419T162315Z
URL:http://www.meadvillechamber.com/events/details/2024-annual-awards-night-7964
END:VEVENT

END:VCALENDAR
