BEGIN:VCALENDAR
VERSION:2.0
PRODID:-//ChamberMaster//Event Calendar 2.0//EN
METHOD:PUBLISH
X-PUBLISHED-TTL:P3D
REFRESH-INTERVAL:P3D
CALSCALE:GREGORIAN
BEGIN:VEVENT
DTSTART:20240418T203000Z
DTEND:20240418T213000Z
X-MICROSOFT-CDO-ALLDAYEVENT:FALSE
SUMMARY:Anchor Performance Clinic's Cake Cutting & 1 Year Anniversary
DESCRIPTION:Join the Chamber to celebrate the cake cutting and 1 year anniversary of Anchor Performance Clinic\, LLC on Thursday\, April 18th.\n\n\n\nJoin Dr. Ryan Pfeifer\, DC ATC and his family in celebrating the 1-Year Anniversary of his chiropractic clinic on North Street in Meadville. Learn about their services and products\, enter to win some grab-bags that promote health\, wellness and pain free movement\, and even hear some testimonials from patients who've seen their lives changed by Dr. Ryan's skilled hand of work. There will also be tasty hors d'oeuvres\, local wine and brews & the opportunity to give the gift of health to YOUR family and friends! They're more than chiropractic\, and they can't wait to see you - at their one-year celebration!\n\n\n\nNo need to RSVP. Stop by as your schedule allows and bring a friend!
X-ALT-DESC;FMTTYPE=text/html:Join the Chamber to celebrate the cake cutting and 1 year anniversary of Anchor Performance Clinic\, LLC on Thursday\, April 18th.<br />\n<br />\nJoin Dr. Ryan Pfeifer\, DC ATC and his family in celebrating the 1-Year Anniversary of his chiropractic clinic on North Street in Meadville. Learn about their services and products\, enter to win some grab-bags that promote health\, wellness and pain free movement\, and even hear some testimonials from patients who&#39\;ve seen their lives changed by Dr. Ryan&#39\;s skilled hand of work. There will also be tasty hors d&#39\;oeuvres\, local wine and brews &amp\; the opportunity to give the gift of health to YOUR family and friends! They&#39\;re more than chiropractic\, and they can&#39\;t wait to see you - at their one-year celebration!<br />\n<br />\nNo need to RSVP. Stop by as your schedule allows and bring a friend!
LOCATION:Anchor Performance Clinic LLC 283 North Street Meadville\, PA 16335
UID:e.712.7973
SEQUENCE:3
DTSTAMP:20260419T162702Z
URL:http://www.meadvillechamber.com/events/details/anchor-performance-clinic-s-cake-cutting-1-year-anniversary-7973
END:VEVENT

END:VCALENDAR
