BEGIN:VCALENDAR
VERSION:2.0
PRODID:-//ChamberMaster//Event Calendar 2.0//EN
METHOD:PUBLISH
X-PUBLISHED-TTL:P3D
REFRESH-INTERVAL:P3D
CALSCALE:GREGORIAN
BEGIN:VEVENT
DTSTART:20240605T210000Z
DTEND:20240605T230000Z
X-MICROSOFT-CDO-ALLDAYEVENT:FALSE
SUMMARY:Business After Hours @ Finney's Chocolate Shoppe
DESCRIPTION:Attention Chamber Members: Please join us for Business After Hours at Finney's Chocolate Shoppe!\n\n\n\nAs a courtesy to our host\, please RSVP to the Chamber at 814-337-8030 or email sbeach@MeadvilleChamber.com\n\n\n\nRemember to bring business cards to share! Your attendance will enter you to win Finney's gift basket at the event and also a chance for a 1-Year Complimentary Chamber membership and this will be drawn at the 2024 Christmas Party.
X-ALT-DESC;FMTTYPE=text/html:<p>Attention Chamber Members: Please join us for Business After Hours at Finney&#39\;s Chocolate Shoppe!<br />\n<br />\nAs a courtesy to our host\, please RSVP to the Chamber at 814-337-8030 or email sbeach@MeadvilleChamber.com<br />\n<br />\nRemember to bring business cards to share! Your attendance will enter you to win Finney&#39\;s gift basket at the event and also&nbsp\;a chance for a&nbsp\;1-Year Complimentary Chamber membership and this will be drawn at the 2024&nbsp\;Christmas Party.</p>\n
LOCATION:Finney's Chocolate Shoppe 116 Spring Street Cambridge Springs\, PA
UID:e.712.8250
SEQUENCE:3
DTSTAMP:20260419T143431Z
URL:http://www.meadvillechamber.com/events/details/business-after-hours-finney-s-chocolate-shoppe-8250
END:VEVENT

END:VCALENDAR
