BEGIN:VCALENDAR
VERSION:2.0
PRODID:-//ChamberMaster//Event Calendar 2.0//EN
METHOD:PUBLISH
X-PUBLISHED-TTL:P3D
REFRESH-INTERVAL:P3D
CALSCALE:GREGORIAN
BEGIN:VEVENT
DTSTART:20240430T210000Z
DTEND:20240430T230000Z
X-MICROSOFT-CDO-ALLDAYEVENT:FALSE
SUMMARY:Business After Hours @ French Creek Framing & Fine Art
DESCRIPTION:Attention Chamber Members: Please join us for Business After Hours at French Creek Framing and Fine Art!\n\n\n\nIf you're not able to stay for the full event\, please come and go as your schedule allows. As a courtesy to our host\, please RSVP to the Chamber at 814-337-8030 or email sbeach@MeadvilleChamber.com\n\n\n\nRemember to bring business cards to share! Your attendance will enter you to win a set of 4 Fugagli Prints and also to win a 1-Year Complimentary Chamber membership\, winner will be drawn at the 2024 Christmas Party.
X-ALT-DESC;FMTTYPE=text/html:<p>Attention Chamber Members: Please join us for Business After Hours at French Creek Framing and Fine Art!<br />\n<br />\nIf you&#39\;re not able to stay for the full event\, please come and go as your schedule allows. As a courtesy to our host\, please RSVP to the Chamber at 814-337-8030 or email sbeach@MeadvilleChamber.com<br />\n<br />\nRemember to bring business cards to share! Your attendance will enter you to win a set of 4 Fugagli&nbsp\;Prints and also to win a&nbsp\;1-Year Complimentary Chamber membership\, winner will be drawn at the 2024&nbsp\;Christmas Party.</p>\n
LOCATION:French Creek Framing & Fine Art 903 Market Street\, Meadville
UID:e.712.7972
SEQUENCE:3
DTSTAMP:20260419T162827Z
URL:http://www.meadvillechamber.com/events/details/business-after-hours-french-creek-framing-fine-art-7972
END:VEVENT

END:VCALENDAR
