BEGIN:VCALENDAR
VERSION:2.0
PRODID:-//ChamberMaster//Event Calendar 2.0//EN
METHOD:PUBLISH
X-PUBLISHED-TTL:P3D
REFRESH-INTERVAL:P3D
CALSCALE:GREGORIAN
BEGIN:VEVENT
DTSTART:20260528T210000Z
DTEND:20260528T230000Z
X-MICROSOFT-CDO-ALLDAYEVENT:FALSE
SUMMARY:Business After Hours - Hosted By World Insurance & Techworx @ Riverside Brewing Co
DESCRIPTION:Attention Chamber members and potential new members...don't miss April's Business After Hours networking event - Hosted by World Insurance and Techworx at Riverside Brewing Co!\n\n\n\nEnjoy refreshments\, giveaways and learn more about upcoming events!\n\n\n\nStop in between 5-7 PM to mix and mingle. You don't want to miss out\, make sure to bring your business cards to be entered for the giveaways. Drop your business card at the event registration table to be entered. \n\n\n\nThis is an informal networking event - stop by or stay the whole time! Bring a friend and your business cards. \n\n\n\nAs a courtesy to our host\, please RSVP by\n\n1. Registering on this page\n\n2. Email info@meadvillechamber.com\n\n3. Call the office at 814-337-8030\n\n\n\nWe hope to see you there!
X-ALT-DESC;FMTTYPE=text/html:<div background-color:="" class="kvgmc6g5 cxmmr5t8 oygrvhab hcukyx3x c1et5uql" color:="" font-size:="" segoe="" style="overflow-wrap: break-word\; margin: 0px\; font-family: " ui=""><span style="font-size:14px\;">Attention Chamber members and potential new members...don&#39\;t miss April&#39\;s Business After Hours networking event - Hosted by World Insurance and Techworx at Riverside Brewing Co!<br />\n<br />\nEnjoy refreshments\, giveaways and learn more about upcoming events!<br />\n<br />\nStop in between 5-7 PM to mix and mingle. You don&#39\;t want to miss out\, make sure to bring your business cards to be entered for the giveaways. Drop your business card at the event registration table to be entered.&nbsp\;<br />\n<br />\nThis is an informal networking event - stop by or stay the whole time! Bring a friend and your business cards.&nbsp\;<br />\n<br />\nAs a courtesy to our host\, please RSVP by</span><br />\n1. Registering on this page<br />\n2. Email info@meadvillechamber.com<br />\n3. Call the office at 814-337-8030<br />\n<br />\nWe hope to see you there!</div>\n
LOCATION:Riverside Brewing Co 1 Fountain Ave Cambridge Springs\, PA 16403
UID:e.712.8694
SEQUENCE:3
DTSTAMP:20260421T192105Z
URL:http://www.meadvillechamber.com/events/details/business-after-hours-hosted-by-world-insurance-techworx-riverside-brewing-co-8694
END:VEVENT

END:VCALENDAR
