BEGIN:VCALENDAR
VERSION:2.0
PRODID:-//ChamberMaster//Event Calendar 2.0//EN
METHOD:PUBLISH
X-PUBLISHED-TTL:P3D
REFRESH-INTERVAL:P3D
CALSCALE:GREGORIAN
BEGIN:VEVENT
DTSTART:20260223T220000Z
DTEND:20260224T000000Z
X-MICROSOFT-CDO-ALLDAYEVENT:FALSE
SUMMARY:Business Women's Roundtable @ Crawford County Convention & Visitors Bureau
DESCRIPTION:ALL CHAMBER MEMBER WOMEN WELCOME!!!\n\nBRING A FRIEND! And don't forget your business cards\n\n\n\nPlease bring updates about your business or any upcoming events your organization has coming up. We look forward to connecting with you.\n\nAs a courtesy to the host\, please RSVP:\n\n1. Register on this page by clicking Register button\n\n2. Email info@meadvillechamber.com\n\n3. Call the Chamber office at 814-337-8030\n\n\n\nWe can't wait to hear from Victoria\, check out their newly designed space and gift shop and enjoy time with all the wonderful ladies who join us. We look forward to seeing you there!
X-ALT-DESC;FMTTYPE=text/html:ALL CHAMBER MEMBER WOMEN WELCOME!!!<br />\nBRING A FRIEND! And don&#39\;t forget your business cards<br />\n<br />\nPlease bring updates about your business or any upcoming events your organization has coming up. We look forward to connecting with you.<br />\nAs a courtesy to the host\, please RSVP:<br />\n1. Register on this page by clicking Register button<br />\n2. Email info@meadvillechamber.com<br />\n3. Call the Chamber office at 814-337-8030<br />\n<br />\nWe can&#39\;t wait to hear from Victoria\, check out their newly designed space and gift shop and enjoy time with all the wonderful ladies who join us. We look forward to seeing you there!&nbsp\;<br />\n<br />\n&nbsp\;&nbsp\;
LOCATION:16709 Conneaut Lake Road Meadville\, PA 16335
UID:e.712.5826
SEQUENCE:3
DTSTAMP:20260421T092327Z
URL:http://www.meadvillechamber.com/events/details/business-women-s-roundtable-crawford-county-convention-visitors-bureau-5826
END:VEVENT

END:VCALENDAR
