BEGIN:VCALENDAR
VERSION:2.0
PRODID:-//ChamberMaster//Event Calendar 2.0//EN
METHOD:PUBLISH
X-PUBLISHED-TTL:P3D
REFRESH-INTERVAL:P3D
CALSCALE:GREGORIAN
BEGIN:VEVENT
DTSTART:20240624T210000Z
DTEND:20240624T230000Z
X-MICROSOFT-CDO-ALLDAYEVENT:FALSE
SUMMARY:Business Women's Roundtable @ Lakeside Tranquility Massage & Spa
DESCRIPTION:ALL CHAMBER MEMBER WOMEN WELCOME!!!\n\nBRING A FRIEND!\n\nAnd bring your business cards\n\n\n\nAs a courtesy to our host\, please let us know if you will be attending by either registering online or contacting the Chamber - this helps our host know how many women to prepare for. Thank you!
X-ALT-DESC;FMTTYPE=text/html:ALL CHAMBER MEMBER WOMEN WELCOME!!!<br />\nBRING A FRIEND!<br />\nAnd bring your business cards<br />\n<br />\nAs a courtesy to our host\, please let us know if you will be attending by either registering online or contacting the Chamber - this helps our host know how many women to prepare for. Thank you!<br />\n<br />\n&nbsp\;&nbsp\;
LOCATION:Lakeside Tranquility Massage & Spa 11065 State Hwy 18\, Suite 1 Conneaut Lake\, PA
UID:e.712.8251
SEQUENCE:3
DTSTAMP:20260419T123546Z
URL:http://www.meadvillechamber.com/events/details/business-women-s-roundtable-lakeside-tranquility-massage-spa-8251
END:VEVENT

END:VCALENDAR
