BEGIN:VCALENDAR
VERSION:2.0
PRODID:-//ChamberMaster//Event Calendar 2.0//EN
METHOD:PUBLISH
X-PUBLISHED-TTL:P3D
REFRESH-INTERVAL:P3D
CALSCALE:GREGORIAN
BEGIN:VEVENT
DTSTART:20240422T210000Z
DTEND:20240422T230000Z
X-MICROSOFT-CDO-ALLDAYEVENT:FALSE
SUMMARY:Business Women's Roundtable @ Women's Services
DESCRIPTION:ALL CHAMBER MEMBER WOMEN WELCOME!!!\n\nBRING A FRIEND!\n\nWomen's Services is excited to host this month's event\, and it is Sexual Assault Awareness Month.\n\nBring your business cards\, bring a friend\, and be entered to win 2 tickets to Chateau Christine's Spring Fashion Show on April 26th!\n\n\n\nAs a courtesy to our host\, please let us know if you will be attending by either registering online or contacting the Chamber - this helps our host know how many women to prepare for. Thank you!
X-ALT-DESC;FMTTYPE=text/html:ALL CHAMBER MEMBER WOMEN WELCOME!!!<br />\nBRING A FRIEND!<br />\nWomen&#39\;s Services is excited to host this month&#39\;s event\, and it is Sexual Assault Awareness Month.<br />\nBring your business cards\, bring a friend\, and be entered to win 2 tickets to Chateau Christine&#39\;s Spring Fashion Show on April 26th!<br />\n<br />\nAs a courtesy to our host\, please let us know if you will be attending by either registering online or contacting the Chamber - this helps our host know how many women to prepare for. Thank you!<br />\n<br />\n&nbsp\;&nbsp\;
LOCATION:Women's Services 204 Spring Street Meadville\, PA 16335
UID:e.712.7968
SEQUENCE:3
DTSTAMP:20260419T162858Z
URL:http://www.meadvillechamber.com/events/details/business-women-s-roundtable-women-s-services-7968
END:VEVENT

END:VCALENDAR
