BEGIN:VCALENDAR
VERSION:2.0
PRODID:-//ChamberMaster//Event Calendar 2.0//EN
METHOD:PUBLISH
X-PUBLISHED-TTL:P3D
REFRESH-INTERVAL:P3D
CALSCALE:GREGORIAN
BEGIN:VEVENT
DTSTART;VALUE=DATE:20240408
DTEND;VALUE=DATE:20240409
TRANSP:TRANSPARENT
X-MICROSOFT-CDO-ALLDAYEVENT:TRUE
SUMMARY:Chamber Office Closed at Noon for Eclipse
DESCRIPTION:Chamber Office Closing at Noon for Eclipse - we will be downtown checking out what the local businesses are doing to celebrate and enjoy the total eclipse. Be safe and enjoy everyone!
X-ALT-DESC;FMTTYPE=text/html:Chamber Office Closing at Noon for Eclipse - we will be downtown checking out what the local businesses are doing to celebrate and enjoy the total eclipse. Be safe and enjoy everyone!
LOCATION:
UID:e.712.7975
SEQUENCE:3
DTSTAMP:20260419T162142Z
URL:http://www.meadvillechamber.com/events/details/chamber-office-closed-at-noon-for-eclipse-7975
END:VEVENT

END:VCALENDAR
