BEGIN:VCALENDAR
VERSION:2.0
PRODID:-//ChamberMaster//Event Calendar 2.0//EN
METHOD:PUBLISH
X-PUBLISHED-TTL:P3D
REFRESH-INTERVAL:P3D
CALSCALE:GREGORIAN
BEGIN:VEVENT
DTSTART;VALUE=DATE:20240412
DTEND;VALUE=DATE:20240415
TRANSP:TRANSPARENT
X-MICROSOFT-CDO-ALLDAYEVENT:TRUE
SUMMARY:Children’s Miracle Network Extra Life: Tabletop Gaming Weekend
DESCRIPTION:Attention Gamers! Extra Life is a gaming program of Children's Miracle Network (CMN) Hospitals raising funds and awareness across the U.S. and Canada through the excitement of gaming. There are thousands of Extra Lifers across the world who raise money for their local children's hospital like AHN Saint Vincent Erie through gaming. Celebrate National Board Game Day by participating in Children's Miracle Network's Tabletop Weekend\, April 12-14. Join your friends\, family and fellow gamers to play your favorite game and raise money for the kids served at AHN Saint Vincent. To register\, please visit www.extra-life.org.
X-ALT-DESC;FMTTYPE=text/html:Attention Gamers! Extra Life is a gaming program of Children&#39\;s Miracle Network (CMN) Hospitals raising funds and awareness across the U.S. and Canada through the excitement of gaming. There are thousands of Extra Lifers across the world who raise money for their local children&#39\;s hospital like AHN Saint Vincent Erie through gaming. Celebrate National Board Game Day by participating in Children&rsquo\;s Miracle Network&rsquo\;s Tabletop Weekend\, April 12-14. Join your friends\, family and fellow gamers to play your favorite game and raise money for the kids served at AHN Saint Vincent. To register\, please visit www.extra-life.org.
LOCATION:Online/Virtual
UID:e.712.7966
SEQUENCE:3
DTSTAMP:20260419T181641Z
URL:http://www.meadvillechamber.com/events/details/children-s-miracle-network-extra-life-tabletop-gaming-weekend-7966
END:VEVENT

END:VCALENDAR
