BEGIN:VCALENDAR
VERSION:2.0
PRODID:-//ChamberMaster//Event Calendar 2.0//EN
METHOD:PUBLISH
X-PUBLISHED-TTL:P3D
REFRESH-INTERVAL:P3D
CALSCALE:GREGORIAN
BEGIN:VEVENT
DTSTART:20240612T200000Z
DTEND:20240612T220000Z
X-MICROSOFT-CDO-ALLDAYEVENT:FALSE
SUMMARY:Harmony Closings LLC 1 Year Anniversary Celebration w/Cake Cutting
DESCRIPTION:Join the Chamber to help celebrate the 1 Year Anniversary of Harmony Closings LLC with a cake cutting on Wednesday\, June 12th at 4:30 PM. \n\n\n\nThey are excited and ready to celebrate - they are looking forward to you stopping by to check out their space\, celebrate with some tasty snacks and see what all they do.\n\nHarmony Closings LLC is asking if you could please RSVP to them directly so they have an idea of food and drinks - you can contact Amy at amy@harmonyclosings.com or 814-337-0004. Stop by and wish them a happy birthday!
X-ALT-DESC;FMTTYPE=text/html:Join the Chamber to help celebrate the 1 Year Anniversary of Harmony Closings LLC with a cake cutting on Wednesday\, June 12th at 4:30 PM.&nbsp\;<br />\n<br />\nThey are excited and ready to celebrate - they are looking forward to you stopping by to check out their space\, celebrate with some tasty snacks and see what all they do.<br />\nHarmony Closings LLC is asking if you could please RSVP to them directly so they have an idea of food and drinks - you can contact Amy at amy@harmonyclosings.com or 814-337-0004. Stop by and wish them a happy birthday!
LOCATION:201 Arch Street\, 2nd Floor Meadville\, PA 16335
UID:e.712.8273
SEQUENCE:3
DTSTAMP:20260419T123633Z
URL:http://www.meadvillechamber.com/events/details/harmony-closings-llc-1-year-anniversary-celebration-w-cake-cutting-8273
END:VEVENT

END:VCALENDAR
