BEGIN:VCALENDAR
VERSION:2.0
PRODID:-//ChamberMaster//Event Calendar 2.0//EN
METHOD:PUBLISH
X-PUBLISHED-TTL:P3D
REFRESH-INTERVAL:P3D
CALSCALE:GREGORIAN
BEGIN:VEVENT
DTSTART:20240528T160000Z
DTEND:20240528T170000Z
X-MICROSOFT-CDO-ALLDAYEVENT:FALSE
SUMMARY:HR Consortium
DESCRIPTION:Join our roundtable for anyone who deals with Human Resources issues - HR professionals\, owners\, front line supervisors\, etc. Guest speakers and/or round table discussions about current relevant topics affecting our local businesses.\n\n\n\nHeld at Hoss's on the 4th Tuesday of each month (except December).\n\n\n\nNo reservations necessary. Lunch available for purchase on an individual basis.
X-ALT-DESC;FMTTYPE=text/html:Join our roundtable for anyone who deals with Human Resources issues - HR professionals\, owners\, front line supervisors\, etc. Guest speakers and/or round table discussions about current relevant topics affecting our local businesses.<br />\n<br />\nHeld at Hoss&#39\;s on the 4th Tuesday of each month (except December).<br />\n<br />\nNo reservations necessary. Lunch available for purchase on an individual basis.<br />\n&nbsp\;
LOCATION:Hoss's Steak & Sea House 1887 Smock Hwy\, Meadville
UID:e.712.6728
SEQUENCE:3
DTSTAMP:20260419T143100Z
URL:http://www.meadvillechamber.com/events/details/hr-consortium-05-28-2024-6728
END:VEVENT

END:VCALENDAR
