BEGIN:VCALENDAR
VERSION:2.0
PRODID:-//ChamberMaster//Event Calendar 2.0//EN
METHOD:PUBLISH
X-PUBLISHED-TTL:P3D
REFRESH-INTERVAL:P3D
CALSCALE:GREGORIAN
BEGIN:VEVENT
DTSTART:20240625T160000Z
DTEND:20240625T170000Z
X-MICROSOFT-CDO-ALLDAYEVENT:FALSE
SUMMARY:HR Consortium
DESCRIPTION:Join our roundtable for anyone who deals with Human Resources issues - HR professionals\, owners\, front line supervisors\, etc.\n\nThere will be guest speakers and/or round table discussions about current relevant topics affecting our local businesses.\n\n\n\nHeld at Hoss's on the 4th Tuesday of each month (except December).\n\n\n\nNo reservations necessary. Lunch available for purchase on an individual basis.
X-ALT-DESC;FMTTYPE=text/html:Join our roundtable for anyone who deals with Human Resources issues - HR professionals\, owners\, front line supervisors\, etc.<br />\nThere will be guest speakers and/or round table discussions about current relevant topics affecting our local businesses.<br />\n<br />\nHeld at Hoss&#39\;s on the 4th Tuesday of each month (except December).<br />\n<br />\nNo reservations necessary. Lunch available for purchase on an individual basis.<br />\n&nbsp\;
LOCATION:Hoss's Steak & Sea House 1887 Smock Hwy Meadville\, PA 16335
UID:e.712.6729
SEQUENCE:3
DTSTAMP:20260419T123353Z
URL:http://www.meadvillechamber.com/events/details/hr-consortium-06-25-2024-6729
END:VEVENT

END:VCALENDAR
