BEGIN:VCALENDAR
VERSION:2.0
PRODID:-//ChamberMaster//Event Calendar 2.0//EN
METHOD:PUBLISH
X-PUBLISHED-TTL:P3D
REFRESH-INTERVAL:P3D
CALSCALE:GREGORIAN
BEGIN:VEVENT
DTSTART:20240515T110000Z
DTEND:20240515T210000Z
X-MICROSOFT-CDO-ALLDAYEVENT:FALSE
SUMMARY:No Place Like Home NURSING EXPO
DESCRIPTION:You've all heard the saying\, \n\n"There's No Place Like Home"  \n\nWe want you to come and see there's also no place like WESBURY!\n\n\n\nWHERE: Wesbury -31 N. Park Ave.\, Meadville\n\nWHEN: May 15th from 7:00 a.m. to 5:00 p.m. \n\nWHO SHOULD ATTEND: CNAs and LPNs  looking for a supportive working environment\n\nRSVP: Not required\, just come and see us!\n\nQUESTIONS? Contact Michelle at  814-795-2808 or msciallo@wesbury.com\n\n\n\nTake your next step in your career and you will find\, there is no place like Wesbury to feel at home!
X-ALT-DESC;FMTTYPE=text/html:<div style="text-align:center">\n<div><span style="font-size:18pt">You&rsquo\;ve all heard the saying\,&nbsp\;</span></div>\n\n<div><span style="font-size:18pt"><em>&ldquo\;There&rsquo\;s No Place Like Home&rdquo\;&nbsp\;&nbsp\;</em></span><br />\n<span style="font-size:18pt">We want you to come and see there&rsquo\;s also no place like WESBURY!</span></div>\n\n<div><br />\nWHERE: Wesbury -31 N. Park Ave.\, Meadville<br />\nWHEN: May 15th from 7:00 a.m. to 5:00 p.m.&nbsp\;</div>\n\n<div>WHO SHOULD ATTEND:&nbsp\;CNAs and LPNs&nbsp\; looking for a supportive working environment<br />\nRSVP: Not required\, just come and see us!<br />\nQUESTIONS? Contact Michelle at&nbsp\; 814-795-2808 or&nbsp\;<a href="mailto:msciallo@wesbury.com" style="box-sizing: border-box\; background-color: transparent\; cursor: pointer\; color: rgb(51\, 102\, 153)\; overflow-wrap: break-word\;">msciallo@wesbury.com</a></div>\n\n<div><br />\nTake your next step in your career and you will find\, there is no place like Wesbury to feel at home!</div>\n</div>\n\n<div style="text-align:center">&nbsp\;</div>\n
LOCATION:
UID:e.712.8266
SEQUENCE:3
DTSTAMP:20260419T143252Z
URL:http://www.meadvillechamber.com/events/details/no-place-like-home-nursing-expo-8266
END:VEVENT

END:VCALENDAR
