BEGIN:VCALENDAR
VERSION:2.0
PRODID:-//ChamberMaster//Event Calendar 2.0//EN
METHOD:PUBLISH
X-PUBLISHED-TTL:P3D
REFRESH-INTERVAL:P3D
CALSCALE:GREGORIAN
BEGIN:VEVENT
DTSTART:20260310T213000Z
DTEND:20260310T223000Z
X-MICROSOFT-CDO-ALLDAYEVENT:FALSE
SUMMARY:Personal Finance Discussion: Budgeting Tips & Tools
DESCRIPTION:Common Roots is partnering with PNC to host a series of financial education classes. This first one will be about budgeting where we will discuss the importance of creating and maintaining a budget. We will also learn how to set goals for spending\, savings\, and debt repayment.  Food will be provided and there will be a chance to win a free gift card!
X-ALT-DESC;FMTTYPE=text/html:<span style="color:rgb(8\, 8\, 9)\; font-family:segoe ui historic\,segoe ui\,helvetica\,arial\,sans-serif\; font-size:15px">Common Roots is partnering with PNC to host a series of financial education classes. This first one will be about budgeting where we will discuss the importance of creating and maintaining a budget. We will also learn how to set goals for spending\, savings\, and debt repayment.&nbsp\; Food will be provided and there will be a chance to win a free gift card!&nbsp\;</span>
LOCATION:301 North St\, Meadville PA
UID:e.712.8684
SEQUENCE:3
DTSTAMP:20260421T123220Z
URL:http://www.meadvillechamber.com/events/details/personal-finance-discussion-budgeting-tips-tools-8684
END:VEVENT

END:VCALENDAR
