BEGIN:VCALENDAR
VERSION:2.0
PRODID:-//ChamberMaster//Event Calendar 2.0//EN
METHOD:PUBLISH
X-PUBLISHED-TTL:P3D
REFRESH-INTERVAL:P3D
CALSCALE:GREGORIAN
BEGIN:VEVENT
DTSTART:20240522T203000Z
DTEND:20240522T213000Z
X-MICROSOFT-CDO-ALLDAYEVENT:FALSE
SUMMARY:*POSTPONED* Ribbon Cutting & Grand Opening @ Eternal Glow
DESCRIPTION:**Update: Eternal Glow 's Ribbon Cutting and Grand Opening is being temporarily postponed due to some very exciting news! They have been offered the chance to expand and relocate to their dream location. As a result\, the Ribbon Cutting is being rescheduled. Updates on the new details will be coming - keep an eye out for the new Grand Opening and Ribbon Cutting date to be announced and congratulations on the exciting news.\n\n\n\nJoin us for the Ribbon Cutting and Grand Opening of Eternal Glow in Conneaut Lake.\n\n\n\nThere will be giveaways\, charcuterie provided by Rising River Brewing Co and appetizers provided by Julian's Bar & Grill. Complimentary chair massages provided by Clarity Therapeutics. Come check out Erika's new mini spa and celebrate her grand opening!\n\n\n\nThis event is open to the public. No RSVPs are necessary.
X-ALT-DESC;FMTTYPE=text/html:<span style="color: rgb(5\, 5\, 5)\; font-family: &quot\;Segoe UI Historic&quot\;\, &quot\;Segoe UI&quot\;\, Helvetica\, Arial\, sans-serif\; font-size: 15px\; white-space-collapse: preserve\;">**Update: </span><span class="html-span xdj266r x11i5rnm xat24cr x1mh8g0r xexx8yu x4uap5 x18d9i69 xkhd6sd x1hl2dhg x16tdsg8 x1vvkbs" style="margin: 0px\; overflow-wrap: break-word\; padding: 0px\; font-family: &quot\;Segoe UI Historic&quot\;\, &quot\;Segoe UI&quot\;\, Helvetica\, Arial\, sans-serif\; color: rgb(5\, 5\, 5)\; font-size: 15px\; white-space-collapse: preserve\;"><a class="x1i10hfl xjbqb8w x1ejq31n xd10rxx x1sy0etr x17r0tee x972fbf xcfux6l x1qhh985 xm0m39n x9f619 x1ypdohk xt0psk2 xe8uvvx xdj266r x11i5rnm xat24cr x1mh8g0r xexx8yu x4uap5 x18d9i69 xkhd6sd x16tdsg8 x1hl2dhg xggy1nq x1a2a7pz x1sur9pj xkrqix3 x1fey0fg xo1l8bm" href="https://www.facebook.com/profile.php?id=61557696334392&amp\;__cft__[0]=AZVgnQzryT7czkONbthZieuDePTAwnHSJ2voktGNleXjCAl2dpz2ypdv_uUki5efmpT2NLMAflo03DQlqFE5VIeyX8hoxDQztrV4W31wAHghbJcZ1kXtoDMN15Fr0KlRZZ84K5xseM5v8mBqcAX8YiB_-Lvwued8WbkR0Xk9jObEKnkKvF1_riccgORdCqj_Duz8qkVdG2D80TyhoAg4Wyn_&amp\;__tn__=-]K-R" role="link" style="color: var(--blue-link)\; cursor: pointer\; text-decoration-line: none\; outline: none\; list-style: none\; margin: 0px\; text-align: inherit\; border-style: none\; padding: 0px\; border-width: 0px\; box-sizing: border-box\; background-color: transparent\; display: inline\; -webkit-tap-highlight-color: transparent\; touch-action: manipulation\; font-family: inherit\;" tabindex="0"><span class="xt0psk2" style="display: inline\; font-family: inherit\;">Eternal Glow </span></a></span><span style="color: rgb(5\, 5\, 5)\; font-family: &quot\;Segoe UI Historic&quot\;\, &quot\;Segoe UI&quot\;\, Helvetica\, Arial\, sans-serif\; font-size: 15px\; white-space-collapse: preserve\;">&#39\;s Ribbon Cutting and Grand Opening is being temporarily postponed due to some very exciting news! They have been offered the chance to expand and relocate to their dream location. As a result\, the Ribbon Cutting is being rescheduled. Updates on the new details will be coming - keep an eye out for the new Grand Opening and Ribbon Cutting date to be announced and congratulations on the exciting news.</span><br />\n<br />\nJoin us for the Ribbon Cutting and Grand Opening of Eternal Glow in Conneaut Lake.<br />\n<br />\nThere will be giveaways\, charcuterie provided by Rising River Brewing Co and appetizers provided by Julian&#39\;s Bar &amp\; Grill. Complimentary chair massages provided by Clarity Therapeutics. Come check out Erika&#39\;s new mini spa and celebrate her grand opening!<br />\n<br />\nThis event is open to the public. No RSVPs are necessary.
LOCATION:Conneaut Lake\, PA 16316
UID:e.712.8267
SEQUENCE:3
DTSTAMP:20260419T143316Z
URL:http://www.meadvillechamber.com/events/details/postponed-ribbon-cutting-grand-opening-eternal-glow-8267
END:VEVENT

END:VCALENDAR
