BEGIN:VCALENDAR
VERSION:2.0
PRODID:-//ChamberMaster//Event Calendar 2.0//EN
METHOD:PUBLISH
X-PUBLISHED-TTL:P3D
REFRESH-INTERVAL:P3D
CALSCALE:GREGORIAN
BEGIN:VEVENT
DTSTART:20240622T150000Z
DTEND:20240623T030000Z
X-MICROSOFT-CDO-ALLDAYEVENT:FALSE
SUMMARY:Relay for Life of Crawford County
DESCRIPTION:This is a FREE and FAMILY FRIENDLY event. Come join us to celebrate\, honor\, and remember those who have been impacted or currently impacted by cancer. Let's show them the county is there to support them!
X-ALT-DESC;FMTTYPE=text/html:This is a FREE and FAMILY FRIENDLY event. Come join us to celebrate\, honor\, and remember those who have been impacted or currently impacted by cancer. Let&#39\;s show them the county is there to support them!
LOCATION:Crawford County Fairgrounds- Gate 3
UID:e.712.6895
SEQUENCE:3
DTSTAMP:20260419T123744Z
URL:http://www.meadvillechamber.com/events/details/relay-for-life-of-crawford-county-6895
END:VEVENT

END:VCALENDAR
