BEGIN:VCALENDAR
VERSION:2.0
PRODID:-//ChamberMaster//Event Calendar 2.0//EN
METHOD:PUBLISH
X-PUBLISHED-TTL:P3D
REFRESH-INTERVAL:P3D
CALSCALE:GREGORIAN
BEGIN:VEVENT
DTSTART:20240416T160000Z
DTEND:20240416T170000Z
X-MICROSOFT-CDO-ALLDAYEVENT:FALSE
SUMMARY:Ribbon Cutting @ Cuts By Cory
DESCRIPTION:Join us for a ribbon cutting at Cuts By Cory! \n\nHelp celebrate her new location...and it has a parking lot!\n\n\n\nThis event is open to the public. No RSVPs are necessary. For questions\, please contact the Chamber of Commerce at 814.337.8030.\n\n\n\nCuts By Cory\n\n217 North Street\, Meadville\n\n814.573-0988
X-ALT-DESC;FMTTYPE=text/html:Join us for a ribbon cutting at Cuts By Cory!&nbsp\;<br />\nHelp celebrate her new location...and it has a parking lot!<br />\n<br />\nThis event is open to the public. No RSVPs are necessary. For questions\, please contact the Chamber of Commerce at 814.337.8030.<br />\n<br />\nCuts By Cory<br />\n217 North Street\, Meadville<br />\n814.573-0988
LOCATION:217 North Street\, Meadville
UID:e.712.7971
SEQUENCE:3
DTSTAMP:20260419T162305Z
URL:http://www.meadvillechamber.com/events/details/ribbon-cutting-cuts-by-cory-7971
END:VEVENT

END:VCALENDAR
