BEGIN:VCALENDAR
VERSION:2.0
PRODID:-//ChamberMaster//Event Calendar 2.0//EN
METHOD:PUBLISH
X-PUBLISHED-TTL:P3D
REFRESH-INTERVAL:P3D
CALSCALE:GREGORIAN
BEGIN:VEVENT
DTSTART:20260709T113000Z
DTEND:20260709T213000Z
X-MICROSOFT-CDO-ALLDAYEVENT:FALSE
SUMMARY:VNET Tech Summit
DESCRIPTION:The VNET Tech Summit is back   and bigger than ever!\n \n\n\nKyle Hanslovan\, CEO and co-founder of Huntress\, will be in Erie on July 9\, bringing a global perspective on cybersecurity and the rapid development of AI to the nationally regarded VNET Tech Summit.\n\n \n\nHanslovan is a highly sought-after speaker with experience across critical industries\, including healthcare\, government\, manufacturing\, and education. As an ethical hacker and malware connoisseur\, Kyle isn't afraid to challenge the status quo to disrupt herd mentality in the cybersecurity industry   making him a highly engaging and thoughtful speaker. He has successfully raised over $350 million in venture capital and is passionate about entrepreneurship\, innovation\, radical candor\, and social impact. Huntress Managed Endpoint Detection and Response was the winner of the CRN 2025 Product of the Year\, as one of the most powerful tools in cybersecurity.\nWhy Attend?:\n\n\n	Hear from some of the top minds in cybersecurity\n	Connect with tech leaders and innovators from across the country\n	Discover what's next in AI\, security\, and digital transformation\n	Experience Erie's growing role as a rising tech hub\n\n\nEvent Highlights:\n\n\n	Expert Panels: Engage with industry leaders as they discuss the latest in AI advancements in cybersecurity and its organizational impact.\n	Vendor Showcases: Discover innovative solutions from leading vendors in the security and technology fields.\n	Tailored Content: Sessions are designed to educate and benefit all members of your organization.\n\n\nEvent Details:\n\n\n	Venue: Bayfront Convention Center
X-ALT-DESC;FMTTYPE=text/html:<div><strong>The VNET Tech Summit is back &mdash\; and bigger than ever!</strong>\n<div>&nbsp\;</div>\n</div>\n\n<div>Kyle Hanslovan\, CEO and co-founder of Huntress\, will be in Erie on July 9\, bringing a global perspective on cybersecurity and the rapid development of AI to the nationally regarded VNET Tech Summit.</div>\n\n<div>&nbsp\;</div>\n\n<div>Hanslovan is a highly sought-after speaker with experience across critical industries\, including healthcare\, government\, manufacturing\, and education. As an ethical hacker and malware connoisseur\, Kyle isn&rsquo\;t afraid to challenge the status quo to disrupt herd mentality in the cybersecurity industry &ndash\; making him a highly engaging and thoughtful speaker. He has successfully raised over $350 million in venture capital and is passionate about entrepreneurship\, innovation\, radical candor\, and social impact. Huntress Managed Endpoint Detection and Response was the winner of the CRN 2025 Product of the Year\, as one of the most powerful tools in cybersecurity.\n<p style="text-align:start"><strong>Why Attend?:</strong></p>\n\n<ul>\n	<li>Hear from some of the top minds in cybersecurity</li>\n	<li>Connect with tech leaders and innovators from across the country</li>\n	<li>Discover what&rsquo\;s next in AI\, security\, and digital transformation</li>\n	<li>Experience Erie&rsquo\;s growing role as a rising tech hub</li>\n</ul>\n\n<div><strong>Event Highlights:</strong></div>\n\n<ul>\n	<li><strong>Expert Panels:&nbsp\;</strong>Engage with industry leaders as they discuss the latest in AI advancements in cybersecurity and its organizational impact.</li>\n	<li><strong>Vendor Showcases:</strong> Discover innovative solutions from leading vendors in the security and technology fields.</li>\n	<li><strong>Tailored Content:</strong> Sessions are designed to educate and benefit all members of your organization.</li>\n</ul>\n\n<div><strong>Event Details:</strong></div>\n\n<ul>\n	<li><strong>Venue:</strong> Bayfront Convention Center</li>\n</ul>\n</div>\n
LOCATION:Bayfront Convention Center
UID:e.712.8698
SEQUENCE:3
DTSTAMP:20260420T000050Z
URL:http://www.meadvillechamber.com/events/details/vnet-tech-summit-8698
END:VEVENT

END:VCALENDAR
