BEGIN:VCALENDAR
VERSION:2.0
PRODID:-//ChamberMaster//Event Calendar 2.0//EN
METHOD:PUBLISH
X-PUBLISHED-TTL:P3D
REFRESH-INTERVAL:P3D
CALSCALE:GREGORIAN
BEGIN:VEVENT
DTSTART:20240411T160000Z
DTEND:20240411T170000Z
X-MICROSOFT-CDO-ALLDAYEVENT:FALSE
SUMMARY:Women's Golf Outing Committee Meeting
DESCRIPTION:Meeting to discuss all things Women's Golf Outing\n\n\n\nChamber Women's Golf Outing Event to be held first week of June
X-ALT-DESC;FMTTYPE=text/html:Meeting to discuss all things Women&#39\;s Golf Outing<br />\n<br />\nChamber Women&#39\;s Golf Outing Event to be held first week of June&nbsp\; &nbsp\;
LOCATION:Chamber of Commerce office 908 Diamond Park Meadville\, PA
UID:e.712.8256
SEQUENCE:3
DTSTAMP:20260419T162741Z
URL:http://www.meadvillechamber.com/events/details/women-s-golf-outing-committee-meeting-8256
END:VEVENT

END:VCALENDAR
